BEGIN:VCALENDAR
VERSION:2.0
PRODID:-//Weinwandertage Ubstadt-Weiher - ECPv6.15.20//NONSGML v1.0//EN
CALSCALE:GREGORIAN
METHOD:PUBLISH
X-ORIGINAL-URL:https://weinwandertage.de
X-WR-CALDESC:Veranstaltungen für Weinwandertage Ubstadt-Weiher
REFRESH-INTERVAL;VALUE=DURATION:PT1H
X-Robots-Tag:noindex
X-PUBLISHED-TTL:PT1H
BEGIN:VTIMEZONE
TZID:Europe/Berlin
BEGIN:DAYLIGHT
TZOFFSETFROM:+0100
TZOFFSETTO:+0200
TZNAME:CEST
DTSTART:20220327T010000
END:DAYLIGHT
BEGIN:STANDARD
TZOFFSETFROM:+0200
TZOFFSETTO:+0100
TZNAME:CET
DTSTART:20221030T010000
END:STANDARD
BEGIN:DAYLIGHT
TZOFFSETFROM:+0100
TZOFFSETTO:+0200
TZNAME:CEST
DTSTART:20230326T010000
END:DAYLIGHT
BEGIN:STANDARD
TZOFFSETFROM:+0200
TZOFFSETTO:+0100
TZNAME:CET
DTSTART:20231029T010000
END:STANDARD
BEGIN:DAYLIGHT
TZOFFSETFROM:+0100
TZOFFSETTO:+0200
TZNAME:CEST
DTSTART:20240331T010000
END:DAYLIGHT
BEGIN:STANDARD
TZOFFSETFROM:+0200
TZOFFSETTO:+0100
TZNAME:CET
DTSTART:20241027T010000
END:STANDARD
BEGIN:DAYLIGHT
TZOFFSETFROM:+0100
TZOFFSETTO:+0200
TZNAME:CEST
DTSTART:20250330T010000
END:DAYLIGHT
BEGIN:STANDARD
TZOFFSETFROM:+0200
TZOFFSETTO:+0100
TZNAME:CET
DTSTART:20251026T010000
END:STANDARD
BEGIN:DAYLIGHT
TZOFFSETFROM:+0100
TZOFFSETTO:+0200
TZNAME:CEST
DTSTART:20260329T010000
END:DAYLIGHT
BEGIN:STANDARD
TZOFFSETFROM:+0200
TZOFFSETTO:+0100
TZNAME:CET
DTSTART:20261025T010000
END:STANDARD
END:VTIMEZONE
BEGIN:VEVENT
DTSTART;TZID=Europe/Berlin:20250706T160000
DTEND;TZID=Europe/Berlin:20250706T200000
DTSTAMP:20260425T165949
CREATED:20250501T122209Z
LAST-MODIFIED:20250501T122209Z
UID:1278-1751817600-1751832000@weinwandertage.de
SUMMARY:Lucky Random
DESCRIPTION:Acoustic Rock\, Pop & American Style /Folk Music \nLucky Random
URL:https://weinwandertage.de/event/lucky-random/
LOCATION:Restaurant Weinschlauch\, Unterdorfstraße 37\, Zeutern\, 76698
CATEGORIES:Livemusik
ATTACH;FMTTYPE=image/jpeg:https://weinwandertage.de/wp-content/uploads/2025/05/luckyrandom.jpg
ORGANIZER;CN="Restaurant Weinschlauch":MAILTO:info@weinschlauch-zeutern.de
END:VEVENT
BEGIN:VEVENT
DTSTART;TZID=Europe/Berlin:20250706T150000
DTEND;TZID=Europe/Berlin:20250706T170000
DTSTAMP:20260425T165949
CREATED:20230523T111824Z
LAST-MODIFIED:20250501T121708Z
UID:91-1751814000-1751821200@weinwandertage.de
SUMMARY:Geführte Weinwanderung
DESCRIPTION:Am Sonntag geht die geführte Weinwanderung vom Kelterhaus in Zeutern um 15:00 Uhr los. \nGudrun und Roland Adelhelm führen als Weinguides interessierte Wanderer durch den Zeuterner Weinlehrpfad und geben eine Einführung in die lokal angebauten Rebsorten. Immer dabei ist der schöne Panoramablick über Zeutern!\nLänge: ca. 4km\nDauer: ca. 90 Minuten \nEine Anmeldung ist nicht notwendig\, Interessierte finden sich rechtzeitig ab 14:45 Uhr am Kelterhaus in Zeutern ein.
URL:https://weinwandertage.de/event/gefuehrte-weinwanderung/
LOCATION:Kelterhaus Zeutern\, Kelterhausstr. 2\, Zeutern\, 76698
CATEGORIES:Geführte Weinwanderung
ATTACH;FMTTYPE=image/jpeg:https://weinwandertage.de/wp-content/uploads/2023/05/07_Weinwandertag-2.jpg
END:VEVENT
BEGIN:VEVENT
DTSTART;TZID=Europe/Berlin:20250706T120000
DTEND;TZID=Europe/Berlin:20250706T160000
DTSTAMP:20260425T165949
CREATED:20240423T054932Z
LAST-MODIFIED:20250501T120854Z
UID:527-1751803200-1751817600@weinwandertage.de
SUMMARY:Pik-As live beim HCW
DESCRIPTION:Die Band Pik-As aus Karlsruhe rockt den Festplatz in der Oberdorfstr. \nInfos zur Band: https://www.best-covers.de/
URL:https://weinwandertage.de/event/pik-as-live-beim-hcw/
LOCATION:Festplatz Oberdorfstr.\, oberdorfstr. 5/1\, Zeutern\, 76698
CATEGORIES:Livemusik
ATTACH;FMTTYPE=image/jpeg:https://weinwandertage.de/wp-content/uploads/2024/04/0018_bearbeitet-scaled.jpg
END:VEVENT
BEGIN:VEVENT
DTSTART;TZID=Europe/Berlin:20250706T110000
DTEND;TZID=Europe/Berlin:20250706T180000
DTSTAMP:20260425T165949
CREATED:20240412T090252Z
LAST-MODIFIED:20250501T121758Z
UID:453-1751799600-1751824800@weinwandertage.de
SUMMARY:Kunsthandwerker- und Bauernmarkt
DESCRIPTION:Der Kunsthandwerker- und Bauernmarkt findet im Ortskern Zeutern statt. \nFlyer Kunsthandwerker- und Bauernmarkt
URL:https://weinwandertage.de/event/kunsthandwerker-und-bauernmarkt/
LOCATION:Historischer Ortskern Zeutern\, Oberdorfstr. 1-2\, Zeutern\, 76698\, Deutschland
CATEGORIES:Kunsthandwerker- und Bauernmarkt
ATTACH;FMTTYPE=image/jpeg:https://weinwandertage.de/wp-content/uploads/2024/04/facebook_1712911519058_7184471636033628777-e1713861328491.jpg
END:VEVENT
BEGIN:VEVENT
DTSTART;TZID=Europe/Berlin:20250705T190000
DTEND;TZID=Europe/Berlin:20250705T220000
DTSTAMP:20260425T165949
CREATED:20250501T121130Z
LAST-MODIFIED:20250501T121553Z
UID:1281-1751742000-1751752800@weinwandertage.de
SUMMARY:Freddy Sicko
DESCRIPTION:Livemusik mit Freddy Sicko
URL:https://weinwandertage.de/event/freddy-sicko/
LOCATION:Kelterhaus Zeutern\, Kelterhausstr. 2\, Zeutern\, 76698
CATEGORIES:Livemusik
ATTACH;FMTTYPE=image/png:https://weinwandertage.de/wp-content/uploads/2025/05/freddysicko.png
END:VEVENT
BEGIN:VEVENT
DTSTART;TZID=Europe/Berlin:20250705T080000
DTEND;TZID=Europe/Berlin:20250706T210000
DTSTAMP:20260425T165949
CREATED:20240729T194930Z
LAST-MODIFIED:20240729T194943Z
UID:639-1751702400-1751835600@weinwandertage.de
SUMMARY:Weinwandertage 2025
DESCRIPTION:Die Weinwandertage 2025 finden vom 5.-6. Juli 2025 statt!
URL:https://weinwandertage.de/event/weinwandertage-2025/
END:VEVENT
BEGIN:VEVENT
DTSTART;TZID=Europe/Berlin:20240707T160000
DTEND;TZID=Europe/Berlin:20240707T200000
DTSTAMP:20260425T165949
CREATED:20240419T101749Z
LAST-MODIFIED:20240701T185554Z
UID:488-1720368000-1720382400@weinwandertage.de
SUMMARY:Livemusik im Biergarten Restaurant Weinschlauch
DESCRIPTION:Rudi Schaut (ehemals Engelwirt und Hasenheimwirt) spielt\, Motto: Schlagerparade
URL:https://weinwandertage.de/event/livemusik-im-biergarten-restaurant-weinschlauch/
LOCATION:Restaurant Weinschlauch\, Unterdorfstraße 37\, Zeutern\, 76698
CATEGORIES:Livemusik
ORGANIZER;CN="Restaurant Weinschlauch":MAILTO:info@weinschlauch-zeutern.de
END:VEVENT
BEGIN:VEVENT
DTSTART;TZID=Europe/Berlin:20240707T113000
DTEND;TZID=Europe/Berlin:20240707T170000
DTSTAMP:20260425T165949
CREATED:20240410T084645Z
LAST-MODIFIED:20240423T083854Z
UID:410-1720351800-1720371600@weinwandertage.de
SUMMARY:GV Frohsinn Stettfeld
DESCRIPTION:Chorbeiträge der eigenen Chorabteilungen des GV Frohsinn: \n\nMännerchor\nFrauenchor\nS!NGsation\nJugendchor\nRömerlerchen\n\nGenaue Zeiten der Auftritte sind der Homepage des Vereins zu entnehmen: https://www.gv-frohsinn-stettfeld.de/ \n 
URL:https://weinwandertage.de/event/gv-frohsinn-stettfeld/
LOCATION:Vorplatz Mehrzweckhalle Stetteld\, Humboldstr. 3\, Stettfeld\, 76698
CATEGORIES:Livemusik
ATTACH;FMTTYPE=image/webp:https://weinwandertage.de/wp-content/uploads/2024/04/DSC06796-1920w-e1713861516888.webp
END:VEVENT
BEGIN:VEVENT
DTSTART;TZID=Europe/Berlin:20240707T110000
DTEND;TZID=Europe/Berlin:20240707T140000
DTSTAMP:20260425T165949
CREATED:20230524T070204Z
LAST-MODIFIED:20240418T210018Z
UID:229-1720350000-1720360800@weinwandertage.de
SUMMARY:Die fidelen Musikanten des Musikverein Weiher
DESCRIPTION:Wo? Vorplatz der Kelter Ubstadt \nMusikverein Weiher
URL:https://weinwandertage.de/event/die-fidelen-musikanten-des-musikverein-weiher/
LOCATION:Vorplatz der Kelter Ubstadt\, Obere Straße 11\, Ubstadt\, 76698
ATTACH;FMTTYPE=image/jpeg:https://weinwandertage.de/wp-content/uploads/2023/05/thumbs_DSC_5427.jpg
END:VEVENT
BEGIN:VEVENT
DTSTART;TZID=Europe/Berlin:20240707T110000
DTEND;TZID=Europe/Berlin:20240707T120000
DTSTAMP:20260425T165949
CREATED:20240701T184855Z
LAST-MODIFIED:20240701T184855Z
UID:604-1720350000-1720353600@weinwandertage.de
SUMMARY:Markteröffnung mit Bürgermeister Tony Löffler
DESCRIPTION:Es ist uns gelungen 2 der 3 Weinhoheiten der Winzergenossenschaft „Winzer von Baden“ für unsere Markteröffnung nach Zeutern zu holen. Zusammen mit ihnen wird Bürgermeister Tony Löffler am Sonntag\, 07.07.24\, um 11 Uhr vor dem Zelt des HCW die Weinwandertage und den Kunsthandwerker- und Bauernmarkt eröffnen. Die Winzergenossenschaft hat auch ein Fass Auxerrois zum „Anschläucheln“ gestiftet.\nWir finden\, das ist eine tolle Sache. \nDie Vereinsgemeinschsft Weinwandertage würde sich sehr freuen\, mit Euch das 1. Glas aus dem angeschläuchelten Fass zu erheben!!
URL:https://weinwandertage.de/event/markteroeffnung-mit-buergermeister-tony-loeffler/
LOCATION:Festplatz Oberdorfstr.\, oberdorfstr. 5/1\, Zeutern\, 76698
CATEGORIES:Kunsthandwerker- und Bauernmarkt
END:VEVENT
BEGIN:VEVENT
DTSTART;TZID=Europe/Berlin:20240706T190000
DTEND;TZID=Europe/Berlin:20240706T230000
DTSTAMP:20260425T165949
CREATED:20240410T084456Z
LAST-MODIFIED:20240423T083227Z
UID:404-1720292400-1720306800@weinwandertage.de
SUMMARY:"By the way" und Chorbeiträge Gesangsvereine
DESCRIPTION:Es spielen By the way. \nZusätzlich gibt es Chorbeiträge befreundeter Gesangsvereine: \n\nGemischter Chor der Freundschaft Ubstadt\nSing’in Zeutern\nTonART und Männerchor des Gesangsvereins Weiher
URL:https://weinwandertage.de/event/by-the-way-und-chorbeitraege-gesangsvereine/
LOCATION:Vorplatz Mehrzweckhalle Stetteld\, Humboldstr. 3\, Stettfeld\, 76698
CATEGORIES:Livemusik
ATTACH;FMTTYPE=image/png:https://weinwandertage.de/wp-content/uploads/2024/04/bytheway.png
END:VEVENT
BEGIN:VEVENT
DTSTART;TZID=Europe/Berlin:20240706T180000
DTEND;TZID=Europe/Berlin:20240706T220000
DTSTAMP:20260425T165949
CREATED:20240415T082108Z
LAST-MODIFIED:20240704T194013Z
UID:469-1720288800-1720303200@weinwandertage.de
SUMMARY:Livemusik bei der Kelter Zeutern
DESCRIPTION:Livemusik mit \n  \nFATHER AND SON
URL:https://weinwandertage.de/event/livemusik-bei-der-kelter-zeutern/
LOCATION:Kelterhaus Zeutern\, Kelterhausstr. 2\, Zeutern\, 76698
CATEGORIES:Livemusik
END:VEVENT
BEGIN:VEVENT
DTSTART;TZID=Europe/Berlin:20230702T163000
DTEND;TZID=Europe/Berlin:20230702T203000
DTSTAMP:20260425T165949
CREATED:20230517T183801Z
LAST-MODIFIED:20230523T135200Z
UID:34-1688315400-1688329800@weinwandertage.de
SUMMARY:Buzzkill - Alte Locken fett verföhnt
DESCRIPTION:Zum Abschluss der Weinwandertage noch ein spezielles Schmankerl: \nAlte Locken fett verföhnt(!).. \n..das ist das Motto von Buzzkill – rockiger Sound\, der vorwärts geht und gute Laune garantiert. Buzzkill sind eine reine Live-Band ohne Schnickschnack und Effekte\, die mit nur zwei Gitarren\, einem Bass\, einem fetten Schlagzeug und einer durchsetzungsfähigen Stimme arbeiten. Ziel ist es\, einen perfekten Rock-Abend zu liefern\, bei dem das Publikum mitsingt\, abgeht und auch mal Pogo tanzt. \nBuzzkill spielen seit 2010 in der Region und bringen viel Spaß und gute Musik in das Leben der Zuhörer. Das Repertoire umfasst Kracher und All-Time-Cover von Elton John\, The Kinks\, Dolly Parton\, Creedance Clearwater Revival\, Katrina and the Waves\, Seal\, Simon and Garfunkel\, John Denver\, Ramones\, The Box Topps\, Willie Nelson\, Bad Religion und vielen mehr. \nLass dich von Buzzkill mit auf die Reise nehmen und erlebe die alten Locken in einem neuen rockigen Kleid fett verföhnt!! \nhttps://buzzkill-band.de \nWo? Restaurant Weinschlauch
URL:https://weinwandertage.de/event/buzzkill/
LOCATION:Restaurant Weinschlauch\, Unterdorfstraße 37\, Zeutern\, 76698
ATTACH;FMTTYPE=image/jpeg:https://weinwandertage.de/wp-content/uploads/2023/05/Buzzkill-Bandfoto-scaled.jpg
ORGANIZER;CN="Restaurant Weinschlauch":MAILTO:info@weinschlauch-zeutern.de
END:VEVENT
BEGIN:VEVENT
DTSTART;TZID=Europe/Berlin:20230701T190000
DTEND;TZID=Europe/Berlin:20230701T230000
DTSTAMP:20260425T165949
CREATED:20230523T110629Z
LAST-MODIFIED:20230524T072427Z
UID:85-1688238000-1688252400@weinwandertage.de
SUMMARY:The Funky Valentines
DESCRIPTION:The Funky Valentines \nBei den Funky Valentines schart der Sänger und E-Gitarrist Axel Schmid Profimusiker aus dem süddeutschen Raum um sich. Auf dem Programm stehen neben Eigenkompositionen auch Musik von klassischen Rocktrios wie The Jimi Hendrix Experience\, den Red Hot Chili Peppers oder The Police. Darüber hinaus werden Songs interpretiert\, die man so von einem Gitarrentrio nicht erwarten würde\, beispielsweise von Depeche Mode oder Lieder neueren Datums wie etwa von Rihanna oder Post Malone.\nJe nach Anlass und Location wird die Band dann auch gerne mal mit Keyboards\, weiteren Gastmusiker oder auch Bläsersatz erweitert\, wobei dann das Repertoire mit Funk und alten Stücken von Genesis und Pink Floyd ergänzt wird.\nThe Funky Valentines sind immer für Überraschungen gut.\nAber vor allem „rocken sie wie’d Sau!“\, wie es mal ein begeisterter Besucher ausdrückte… \nhttp://www.indigorange.de \nWo? Weingut Hafner
URL:https://weinwandertage.de/event/the-funky-valentines/
LOCATION:Weingut Hafner\, Kirchstr. 1\, Zeutern\, 76698
ATTACH;FMTTYPE=image/jpeg:https://weinwandertage.de/wp-content/uploads/2023/05/331000_XXL.jpg
END:VEVENT
BEGIN:VEVENT
DTSTART;TZID=Europe/Berlin:20230701T180000
DTEND;TZID=Europe/Berlin:20230701T220000
DTSTAMP:20260425T165949
CREATED:20230524T101347Z
LAST-MODIFIED:20230524T101607Z
UID:259-1688234400-1688248800@weinwandertage.de
SUMMARY:Kiss the Fish
DESCRIPTION:Bei Kiss the Fish haben sich zwei Menschen gefunden\, die ihr ganzes Leben der Musik widmen. Wir spielen Songs aus allen Jahrzehnten von Z bis A ohne Schnickschnack\, mit großer Leidenschaft und ganz viel Herz. Mit einer Acoustic-Gitarre\, zweimal Gesang und einer Kazzoo sind wir daher das perfekte Acoustic-Duo für jedes Event. \n  \nWo? Kelter Zeutern
URL:https://weinwandertage.de/event/kiss-the-fish/
LOCATION:Kelterhaus Zeutern\, Kelterhausstr. 2\, Zeutern\, 76698
ATTACH;FMTTYPE=image/jpeg:https://weinwandertage.de/wp-content/uploads/2023/05/DSC02265-2-1-2048x826-1.jpg
END:VEVENT
END:VCALENDAR